Workbook

Sheet Student Registration
A1: College | B1: Student First Name | C1: Student Last Name | D1: Primary Instrument/Voice | E1: Jazz Instrument | F1: Student Artist | G1: Student Street Address | H1: City | I1: Zip | J1: Student Phone | K1: Student Email | L1: Director Name | M1: Director Phone with area code. | N1: Director Email | O1: Entry Category | P1: Accompanist | Q1: Accompanist Name for Program | R1: 1st Piece | S1: 2nd Piece | T1: 3rd Piece | U1: 4th Piece | V1: 5th Piece

Sheet Faculty Registration
A1: College | B1: Faculty First Name | C1: Faculty Last Name | D1: Faculty Job Title/Duties | E1: Phone with area code | F1: Email

Sheet Eligibility Form
A1: FCSAA Music Symposium Student Eligibility Confirmation (print this sheet and submit to your registrar to certify)
A2: I certify that the students listed on this form are eligible for participation, are registered in at least 6 semester hours and have at least a 2.0 cumulative GPA (place registrar's seal somewhere on this page).
A3: Registrar's Signature: | B3: Date:
A4: Director Name:
A5: College Name:
A6: Student First Name | B6: Student Last Name | C6: College ID | D6: Approved by registrar
A7: ='Student Registration'!B2 -> 0 | B7: ='Student Registration'!C2 -> 0
A8: ='Student Registration'!B3 -> 0 | B8: ='Student Registration'!C3 -> 0
A9: ='Student Registration'!B4 -> 0 | B9: ='Student Registration'!C4 -> 0
A10: ='Student Registration'!B5 -> 0 | B10: ='Student Registration'!C5 -> 0
A11: ='Student Registration'!B6 -> 0 | B11: ='Student Registration'!C6 -> 0
A12: ='Student Registration'!B7 -> 0 | B12: ='Student Registration'!C7 -> 0
A13: ='Student Registration'!B8 -> 0 | B13: ='Student Registration'!C8 -> 0
A14: ='Student Registration'!B9 -> 0 | B14: ='Student Registration'!C9 -> 0
A15: ='Student Registration'!B10 -> 0 | B15: ='Student Registration'!C10 -> 0
A16: ='Student Registration'!B11 -> 0 | B16: ='Student Registration'!C11 -> 0
A17: ='Student Registration'!B12 -> 0 | B17: ='Student Registration'!C12 -> 0
A18: ='Student Registration'!B13 -> 0 | B18: ='Student Registration'!C13 -> 0
... A57: ='Student Registration'!B52 -> 0 | B57: ='Student Registration'!C52 -> 0
A58: NUMBER OF STUDENTS: | B58: =COUNTIF(B7:B57,"*") -> 0 | C58: TOTAL FEE DUE: | D58: =B58*30 -> 0
C59: If paid by card, Total: | D59: =B58*31.5 -> 0
A60: Note: Registration fee is $30 per student. Should you wish to pay by credit card, there is an additional 5% administrative charge to process payment. Make checks payable to "FCSAA" and send to: FCSAA, 1725 Mahan Drive, Tallahassee, FL 32308
A61: To receive an invoice, Print this sheet and email to: | C61: kellywarren@thefcsaa.com

Sheet Drop Down Lists
A1: Primary | B1: Jazz | C1: Student Artist Category | D1: College
A2: Band01: Flute | B2: Jazz01: Alto Sax | C2: Woodwind | D2: Broward College
A3: Band02: Oboe | B3: Jazz02:Tenor Sax | C3: Brass | D3: Chipola College
A4: Band03: Bassoon | B4: Jazz03: Bari Sax | C4: Percussion | D4: College of Central Florida
A5: Band04: Clarinet | B5: Jazz04: Trombone | C5: Strings | D5: Daytona State College
A6: Band05: Bass Clarinet | B6: Jazz05: Trumpet | C6: Piano | D6: Eastern Florida State College
A7: Band06: Alto Sax | B7: Jazz06: Guitar | C7: Voice: High | D7: Florida Gateway College
A8: Band07: Tenor Sax | B8: Jazz07: Piano | C8: Voice: Low | D8: Florida Southwestern State College
A9: Band08: Bari Sax | B9: Jazz08: Drumset | C9: Guitar | D9: Florida State College at Jacksonville
A10: Band09: Trumpet | B10: Jazz09: Bass | C10: Jazz | D10: Gulf Coast State College
A11: Band10: French Horn | D11: Hillsborough College
A12: Band11: Trombone | D12: Indian River State College
A13: Band12: Euphonium | D13: Lake Sumter State College
A14: Band13: Tuba | D14: Miami Dade College - Kendall
A15: Band14: Percussion | D15: Miami Dade College - North
A16: Classical Guitar | D16: Miami Dade College - Wolfson
A17: Jazz06: Guitar | D17: Northwest Florida State College
A18: Jazz07: Piano | D18: Palm Beach State College
A19: Jazz08: Drumset | D19: Pasco Hernando State College
A20: Jazz09: Bass | D20: Pensacola State College
A21: Piano | D21: Polk State College
A22: Strings1: Violin | D22: Santa Fe College
... A28: Voice3: Alto 1 | D28: Valencia College
A29: Voice4: Alto 2
A30: Voice5:Tenor 1
A31: Voice6: Tenor 2
A32: Voice7: Baritone
A33: Voice8: Bass
